BEGIN:VCALENDAR
VERSION:2.0
PRODID:-//Services Triad - ECPv6.15.20//NONSGML v1.0//EN
CALSCALE:GREGORIAN
METHOD:PUBLISH
X-ORIGINAL-URL:https://www.servicestriad.com
X-WR-CALDESC:Événements pour Services Triad
REFRESH-INTERVAL;VALUE=DURATION:PT1H
X-Robots-Tag:noindex
X-PUBLISHED-TTL:PT1H
BEGIN:VTIMEZONE
TZID:UTC
BEGIN:STANDARD
TZOFFSETFROM:+0000
TZOFFSETTO:+0000
TZNAME:UTC
DTSTART:20240101T000000
END:STANDARD
END:VTIMEZONE
BEGIN:VEVENT
DTSTART;TZID=UTC:20251008T130000
DTEND;TZID=UTC:20251008T143000
DTSTAMP:20260424T230713
CREATED:20250730T171646Z
LAST-MODIFIED:20250730T173844Z
UID:20518-1759928400-1759933800@www.servicestriad.com
SUMMARY:Communauté de pratiques - RH2025-03 - Conditions de travail innovatrices / repenser les conditions
DESCRIPTION:Choix d’horaires\, avantages sociaux\, modulation des conditions de rémunération\, échanger des agents entre regroupement ou entreprises…
URL:https://www.servicestriad.com/event/communaute-de-pratiques-rh2025-conditions-de-travail-innovatrices-repenser-les-conditions/
END:VEVENT
END:VCALENDAR