BEGIN:VCALENDAR
VERSION:2.0
PRODID:-//Services Triad - ECPv6.15.20//NONSGML v1.0//EN
CALSCALE:GREGORIAN
METHOD:PUBLISH
X-WR-CALNAME:Services Triad
X-ORIGINAL-URL:https://www.servicestriad.com
X-WR-CALDESC:Événements pour Services Triad
REFRESH-INTERVAL;VALUE=DURATION:PT1H
X-Robots-Tag:noindex
X-PUBLISHED-TTL:PT1H
BEGIN:VTIMEZONE
TZID:UTC
BEGIN:STANDARD
TZOFFSETFROM:+0000
TZOFFSETTO:+0000
TZNAME:UTC
DTSTART:20240101T000000
END:STANDARD
END:VTIMEZONE
BEGIN:VEVENT
DTSTART;TZID=UTC:20251024T090000
DTEND;TZID=UTC:20251024T223000
DTSTAMP:20260424T231227
CREATED:20250730T172211Z
LAST-MODIFIED:20250730T182644Z
UID:20523-1761296400-1761345000@www.servicestriad.com
SUMMARY:Déjeuner des Vice-Présidents - 2025-02 - Québec - Orientation stratégique
DESCRIPTION:Stratégies d’adaptation pour changement du rôle de l’agent\, gestion du budget selon les besoins réels – Quels seront les investissements TI dans les 18 prochains mois?
URL:https://www.servicestriad.com/event/dejeuner-des-vice-presidents-2025-02-quebec/
END:VEVENT
END:VCALENDAR