BEGIN:VCALENDAR
VERSION:2.0
PRODID:-//Services Triad - ECPv6.15.20//NONSGML v1.0//EN
CALSCALE:GREGORIAN
METHOD:PUBLISH
X-WR-CALNAME:Services Triad
X-ORIGINAL-URL:https://www.servicestriad.com
X-WR-CALDESC:Événements pour Services Triad
REFRESH-INTERVAL;VALUE=DURATION:PT1H
X-Robots-Tag:noindex
X-PUBLISHED-TTL:PT1H
BEGIN:VTIMEZONE
TZID:UTC
BEGIN:STANDARD
TZOFFSETFROM:+0000
TZOFFSETTO:+0000
TZNAME:UTC
DTSTART:20240101T000000
END:STANDARD
END:VTIMEZONE
BEGIN:VEVENT
DTSTART;TZID=UTC:20251202T090000
DTEND;TZID=UTC:20251202T103000
DTSTAMP:20260424T195100
CREATED:20250730T173044Z
LAST-MODIFIED:20250730T173044Z
UID:20529-1764666000-1764671400@www.servicestriad.com
SUMMARY:Communauté de pratiques - TECH2025-03 - Éthique et nouvelles technologies
DESCRIPTION:Quels sont les impacts sur l’humain\, le travail et sur le client…
URL:https://www.servicestriad.com/event/communaute-de-pratiques-tech2025-03-ethique-et-nouvelles-technologies/
END:VEVENT
END:VCALENDAR