BEGIN:VCALENDAR
VERSION:2.0
PRODID:-//Services Triad - ECPv6.15.20//NONSGML v1.0//EN
CALSCALE:GREGORIAN
METHOD:PUBLISH
X-ORIGINAL-URL:https://www.servicestriad.com
X-WR-CALDESC:Événements pour Services Triad
REFRESH-INTERVAL;VALUE=DURATION:PT1H
X-Robots-Tag:noindex
X-PUBLISHED-TTL:PT1H
BEGIN:VTIMEZONE
TZID:UTC
BEGIN:STANDARD
TZOFFSETFROM:+0000
TZOFFSETTO:+0000
TZNAME:UTC
DTSTART:20250101T000000
END:STANDARD
END:VTIMEZONE
BEGIN:VEVENT
DTSTART;TZID=UTC:20260407T090000
DTEND;TZID=UTC:20260407T103000
DTSTAMP:20260424T133313
CREATED:20250730T175050Z
LAST-MODIFIED:20250730T175050Z
UID:20546-1775552400-1775557800@www.servicestriad.com
SUMMARY:Communauté de pratiques - TECH2026-01 - Outils de sondage continue à la suite des contacts (CSAT)
DESCRIPTION:Contenu des sondages et gestion des données recueillies…
URL:https://www.servicestriad.com/event/communaute-de-pratiques-tech2026-01-outils-de-sondage-continue-a-la-suite-des-contacts-csat/
END:VEVENT
END:VCALENDAR