BEGIN:VCALENDAR
VERSION:2.0
PRODID:-//Services Triad - ECPv6.15.20//NONSGML v1.0//EN
CALSCALE:GREGORIAN
METHOD:PUBLISH
X-ORIGINAL-URL:https://www.servicestriad.com
X-WR-CALDESC:Événements pour Services Triad
REFRESH-INTERVAL;VALUE=DURATION:PT1H
X-Robots-Tag:noindex
X-PUBLISHED-TTL:PT1H
BEGIN:VTIMEZONE
TZID:UTC
BEGIN:STANDARD
TZOFFSETFROM:+0000
TZOFFSETTO:+0000
TZNAME:UTC
DTSTART:20250101T000000
END:STANDARD
END:VTIMEZONE
BEGIN:VEVENT
DTSTART;TZID=UTC:20260520T090000
DTEND;TZID=UTC:20260520T230000
DTSTAMP:20260424T150903
CREATED:20250730T180212Z
LAST-MODIFIED:20250730T180212Z
UID:20556-1779267600-1779318000@www.servicestriad.com
SUMMARY:Session de développement pour chef d'équipes - 2026-01 - Personnalités des clients
DESCRIPTION:Comment les reconnaître\, comment les gérer et exercices pratiques…
URL:https://www.servicestriad.com/event/session-de-developpement-pour-chef-dequipes-2026-01-personnalites-des-clients/
END:VEVENT
END:VCALENDAR