BEGIN:VCALENDAR
VERSION:2.0
PRODID:-//Services Triad - ECPv6.15.20//NONSGML v1.0//EN
CALSCALE:GREGORIAN
METHOD:PUBLISH
X-ORIGINAL-URL:https://www.servicestriad.com
X-WR-CALDESC:Événements pour Services Triad
REFRESH-INTERVAL;VALUE=DURATION:PT1H
X-Robots-Tag:noindex
X-PUBLISHED-TTL:PT1H
BEGIN:VTIMEZONE
TZID:UTC
BEGIN:STANDARD
TZOFFSETFROM:+0000
TZOFFSETTO:+0000
TZNAME:UTC
DTSTART:20250101T000000
END:STANDARD
END:VTIMEZONE
BEGIN:VEVENT
DTSTART;TZID=UTC:20260603T090000
DTEND;TZID=UTC:20260603T223000
DTSTAMP:20260424T164654
CREATED:20250730T180433Z
LAST-MODIFIED:20250730T180433Z
UID:20558-1780477200-1780525800@www.servicestriad.com
SUMMARY:Communauté de pratiques - OPÉE2026-02 - Utilisation et intégration de l'infonuagique dans les opérations
DESCRIPTION:Partage de cas réels d’implantation d’outils technologique dans vos centres de contacts clients…
URL:https://www.servicestriad.com/event/communaute-de-pratiques-opee2026-02-utilisation-et-integration-de-linfonuagique-dans-les-operations/
END:VEVENT
END:VCALENDAR