BEGIN:VCALENDAR
VERSION:2.0
PRODID:-//Services Triad - ECPv6.15.20//NONSGML v1.0//EN
CALSCALE:GREGORIAN
METHOD:PUBLISH
X-WR-CALNAME:Services Triad
X-ORIGINAL-URL:https://www.servicestriad.com
X-WR-CALDESC:Événements pour Services Triad
REFRESH-INTERVAL;VALUE=DURATION:PT1H
X-Robots-Tag:noindex
X-PUBLISHED-TTL:PT1H
BEGIN:VTIMEZONE
TZID:UTC
BEGIN:STANDARD
TZOFFSETFROM:+0000
TZOFFSETTO:+0000
TZNAME:UTC
DTSTART:20250101T000000
END:STANDARD
END:VTIMEZONE
BEGIN:VEVENT
DTSTART;TZID=UTC:20261028T090000
DTEND;TZID=UTC:20261028T103000
DTSTAMP:20260424T230449
CREATED:20250730T181558Z
LAST-MODIFIED:20250730T181558Z
UID:20571-1793178000-1793183400@www.servicestriad.com
SUMMARY:Session de développement pour chefs d'équipes - 2026-02 - Connaître son équipe
DESCRIPTION:Comment le faire? être attentionné écoute active et exercices pratiques…
URL:https://www.servicestriad.com/event/session-de-developpement-pour-chefs-dequipes-2026-02-connaitre-son-equipe/
END:VEVENT
END:VCALENDAR