BEGIN:VCALENDAR
VERSION:2.0
PRODID:-//Services Triad - ECPv6.15.20//NONSGML v1.0//EN
CALSCALE:GREGORIAN
METHOD:PUBLISH
X-ORIGINAL-URL:https://www.servicestriad.com
X-WR-CALDESC:Événements pour Services Triad
REFRESH-INTERVAL;VALUE=DURATION:PT1H
X-Robots-Tag:noindex
X-PUBLISHED-TTL:PT1H
BEGIN:VTIMEZONE
TZID:UTC
BEGIN:STANDARD
TZOFFSETFROM:+0000
TZOFFSETTO:+0000
TZNAME:UTC
DTSTART:20240101T000000
END:STANDARD
END:VTIMEZONE
BEGIN:VEVENT
DTSTART;TZID=UTC:20250910T090000
DTEND;TZID=UTC:20250910T103000
DTSTAMP:20260424T231421
CREATED:20250721T192439Z
LAST-MODIFIED:20250730T173650Z
UID:20507-1757494800-1757500200@www.servicestriad.com
SUMMARY:Rencontre benchmark - 2025-02 - Assurance qualité
DESCRIPTION:Mesures\, objectifs\, rendement\, calibration et rétroaction…
URL:https://www.servicestriad.com/event/rencontre-benchmark-2025-02-assurance-qualite/
END:VEVENT
END:VCALENDAR