BEGIN:VCALENDAR
VERSION:2.0
PRODID:-//Services Triad - ECPv6.15.20//NONSGML v1.0//EN
CALSCALE:GREGORIAN
METHOD:PUBLISH
X-WR-CALNAME:Services Triad
X-ORIGINAL-URL:https://www.servicestriad.com
X-WR-CALDESC:Événements pour Services Triad
REFRESH-INTERVAL;VALUE=DURATION:PT1H
X-Robots-Tag:noindex
X-PUBLISHED-TTL:PT1H
BEGIN:VTIMEZONE
TZID:UTC
BEGIN:STANDARD
TZOFFSETFROM:+0000
TZOFFSETTO:+0000
TZNAME:UTC
DTSTART:20240101T000000
END:STANDARD
END:VTIMEZONE
BEGIN:VEVENT
DTSTART;TZID=UTC:20251112T090000
DTEND;TZID=UTC:20251112T103000
DTSTAMP:20260424T194812
CREATED:20250730T172817Z
LAST-MODIFIED:20250730T174452Z
UID:20527-1762938000-1762943400@www.servicestriad.com
SUMMARY:Communauté de pratiques - OPÉ2025-03 - Planification des effectifs
DESCRIPTION:Comment faire évoluer la flexibilité des horaires\, révision des processus d’exceptions et gestion de l’adhérence…
URL:https://www.servicestriad.com/event/communaute-de-pratiques-ope2025-03-planification-des-effectifs/
END:VEVENT
END:VCALENDAR